BEGIN:VCALENDAR
VERSION:2.0
PRODID:-//Tukios.com/
BEGIN:VEVENT
UID:22f31f81-18b3-4d4a-ae73-e6af12c7554d@www.newcomerdenver.com
DTSTAMP:20260421T224640Z
DTSTART:20260509T190000Z
DTEND:20260509T200000Z
SUMMARY:Memorial Service
DESCRIPTION:
URL:https://www.newcomerdenver.com/obituaries/ann-whitelaw
LOCATION: 901 S Sheridan Blvd  Denver CO 80226
GEO:39.7000747;-105.0537562
END:VEVENT
END:VCALENDAR