BEGIN:VCALENDAR
VERSION:2.0
PRODID:-//Tukios.com/
BEGIN:VEVENT
UID:a1c0530f-fe2d-4bce-9f98-a73be23202ce@www.newcomerdenver.com
DTSTAMP:20260421T044831Z
DTSTART:20260427T170000Z
DTEND:20260427T180000Z
SUMMARY:Memorial Service
DESCRIPTION:
URL:https://www.newcomerdenver.com/obituaries/darold-staab
LOCATION: 901 S Sheridan Blvd  Denver CO 80226
GEO:39.7000747;-105.0537562
END:VEVENT
END:VCALENDAR