BEGIN:VCALENDAR
VERSION:2.0
PRODID:-//Tukios.com/
BEGIN:VEVENT
UID:51f5c38e-1262-49d5-a24c-3e5a2cddf308@www.newcomerdenver.com
DTSTAMP:20260421T224939Z
DTSTART:20260430T163000Z
DTEND:20260430T170000Z
SUMMARY:Graveside Service
DESCRIPTION:
URL:https://www.newcomerdenver.com/obituaries/dawn-resling
LOCATION: 4400 W Kenyon Ave  Denver CO 80236
GEO:39.6489283;-105.04218
END:VEVENT
END:VCALENDAR