BEGIN:VCALENDAR
VERSION:2.0
PRODID:-//Tukios.com/
BEGIN:VEVENT
UID:4861fa30-6f25-4e09-9c21-fe22b0dec390@www.newcomerdenver.com
DTSTAMP:20260421T084651Z
DTSTART:20260307T180000Z
DTEND:20260307T190000Z
SUMMARY:Memorial Service
DESCRIPTION:
URL:https://www.newcomerdenver.com/obituaries/linda-etter
LOCATION:The Bridge Church at Bear Creek 3101 South Kipling Street  
	Lakewood CO 80227
GEO:39.6602766;-105.1103487
END:VEVENT
END:VCALENDAR