BEGIN:VCALENDAR
VERSION:2.0
PRODID:-//Tukios.com/
BEGIN:VEVENT
UID:e4096dfb-e125-4909-a2a4-eec0124208b0@www.newcomerdenver.com
DTSTAMP:20260424T144019Z
DTSTART:20260708T163000Z
DTEND:20260708T173000Z
SUMMARY:Memorial Service
DESCRIPTION:
URL:https://www.newcomerdenver.com/obituaries/linda-nielsen
LOCATION: 901 S Sheridan Blvd  Denver CO 80226
GEO:39.7000747;-105.0537562
END:VEVENT
END:VCALENDAR