BEGIN:VCALENDAR
VERSION:2.0
PRODID:-//Tukios.com/
BEGIN:VEVENT
UID:9f101ca3-9cc2-486a-8f5f-e1b0dece04e0@www.newcomerdenver.com
DTSTAMP:20260421T030158Z
DTSTART:20260501T160000Z
DTEND:20260501T170000Z
SUMMARY:Visitation
DESCRIPTION:
URL:https://www.newcomerdenver.com/obituaries/marilyn-croce
LOCATION: 901 S Sheridan Blvd  Denver CO 80226
GEO:39.7000747;-105.0537562
END:VEVENT
END:VCALENDAR