BEGIN:VCALENDAR
VERSION:2.0
PRODID:-//Tukios.com/
BEGIN:VEVENT
UID:fc50a764-1b0c-4953-b220-feb8a0a04d84@www.newcomerdenver.com
DTSTAMP:20260421T025859Z
DTSTART:20260501T180000Z
DTEND:20260501T190000Z
SUMMARY:Reception
DESCRIPTION:
URL:https://www.newcomerdenver.com/obituaries/marilyn-croce
LOCATION: 901 S Sheridan Blvd  Denver CO 80226
GEO:39.7000747;-105.0537562
END:VEVENT
END:VCALENDAR