BEGIN:VCALENDAR
VERSION:2.0
PRODID:-//Tukios.com/
BEGIN:VEVENT
UID:40fb983b-cdb0-49fe-b906-fc9a6d5410f4@www.newcomerdenver.com
DTSTAMP:20260423T200224Z
DTSTART:20260429T230000Z
DTEND:20260430T000000Z
SUMMARY:Celebration of Life
DESCRIPTION:
URL:https://www.newcomerdenver.com/obituaries/marilyn-davey
LOCATION:Church of the Beloved 10500 Grant Drive  Northglenn CO 80233
GEO:39.8872746;-104.9818434
END:VEVENT
END:VCALENDAR