BEGIN:VCALENDAR
VERSION:2.0
PRODID:-//Tukios.com/
BEGIN:VEVENT
UID:c8eef0f2-f2c3-44f6-a34d-be7c82aecf03@www.newcomerdenver.com
DTSTAMP:20260423T210438Z
DTSTART:20260507T170000Z
DTEND:20260507T173000Z
SUMMARY:Graveside Service
DESCRIPTION:
URL:https://www.newcomerdenver.com/obituaries/neil-musgrave
LOCATION: 4400 W Kenyon Ave  Denver CO 80236
GEO:39.6489283;-105.04218
END:VEVENT
END:VCALENDAR