BEGIN:VCALENDAR
VERSION:2.0
PRODID:-//Tukios.com/
BEGIN:VEVENT
UID:c9988cc0-db1c-4443-b641-f9f0d1e2c448@www.newcomerdenver.com
DTSTAMP:20260423T210903Z
DTSTART:20260509T170000Z
DTEND:20260509T180000Z
SUMMARY:Homegoing Celebration
DESCRIPTION:
URL:https://www.newcomerdenver.com/obituaries/neil-musgrave
LOCATION:Elmwood Baptist Church and Academy 13100 E 144th Ave  Brighton 
	CO 80601
GEO:39.9573371;-104.8341527
END:VEVENT
END:VCALENDAR