BEGIN:VCALENDAR
VERSION:2.0
PRODID:-//Tukios.com/
BEGIN:VEVENT
UID:5fcbb341-cb1c-43ab-816f-d3a8777d7723@www.newcomerdenver.com
DTSTAMP:20260420T225259Z
DTSTART:20260511T170000Z
DTEND:20260511T180000Z
SUMMARY:Celebration of Life
DESCRIPTION:
URL:https://www.newcomerdenver.com/obituaries/rosemarie-barraza
LOCATION: 901 S Sheridan Blvd  Denver CO 80226
GEO:39.7000747;-105.0537562
END:VEVENT
END:VCALENDAR