BEGIN:VCALENDAR
VERSION:2.0
PRODID:-//Tukios.com/
BEGIN:VEVENT
UID:672f78b4-e67a-4d2f-aec4-69bbdfc3859d@www.newcomerdenver.com
DTSTAMP:20260420T230145Z
DTSTART:20260511T160000Z
DTEND:20260511T163000Z
SUMMARY:Visitation
DESCRIPTION:
URL:https://www.newcomerdenver.com/obituaries/rosemarie-barraza
LOCATION: 901 S Sheridan Blvd  Denver CO 80226
GEO:39.7000747;-105.0537562
END:VEVENT
END:VCALENDAR