BEGIN:VCALENDAR
VERSION:2.0
PRODID:-//Tukios.com/
BEGIN:VEVENT
UID:76fb3f1a-a32e-4c5f-9256-2731626368bb@www.newcomerdenver.com
DTSTAMP:20260420T225622Z
DTSTART:20260511T163000Z
DTEND:20260511T170000Z
SUMMARY:Rosary
DESCRIPTION:
URL:https://www.newcomerdenver.com/obituaries/rosemarie-barraza
LOCATION: 901 S Sheridan Blvd  Denver CO 80226
GEO:39.7000747;-105.0537562
END:VEVENT
END:VCALENDAR